BEGIN:VCALENDAR
VERSION:2.0
PRODID:-//Stratis iCal API//FR
CALSCALE:GREGORIAN
X-WR-CALNAME:L'atelier du facteur d'orgue
BEGIN:VEVENT
UID:event-3053
SUMMARY:L'atelier du facteur d'orgue
DESCRIPTION:Découvrons avec Thibault les matières et les étapes nécessaires à la fabrication d'un orgue.
DTSTAMP:20260410T141028Z
DTSTART:20260422T085740Z
DTEND:20260422T085740Z
STATUS:CONFIRMED
SEQUENCE:5
BEGIN:VALARM
TRIGGER:-PT30M
DESCRIPTION:L'atelier du facteur d'orgue
ACTION:DISPLAY
END:VALARM
END:VEVENT
END:VCALENDAR