BEGIN:VCALENDAR
VERSION:2.0
PRODID:-//Stratis iCal API//FR
CALSCALE:GREGORIAN
X-WR-CALNAME:Atelier enfants : fabrique ton blason
BEGIN:VEVENT
UID:event-1987
SUMMARY:Atelier enfants : fabrique ton blason
DESCRIPTION:Découvre l’univers fascinant de l’héraldique ! Formes  couleurs et symboles t’expliquent comment étaient créées les armoiries au Moyen-âge. Puis créé ton propre blason en choisissant écus  partitions  émaux et figures fantastiques. Une activité ludique et créative pour les plus de huit ans.
DTSTAMP:20250930T100314Z
DTSTART:20260422T140000Z
DTEND:20260422T153000Z
STATUS:CONFIRMED
SEQUENCE:11
BEGIN:VALARM
TRIGGER:-PT30M
DESCRIPTION:Atelier enfants : fabrique ton blason
ACTION:DISPLAY
END:VALARM
END:VEVENT
END:VCALENDAR