BEGIN:VCALENDAR
VERSION:2.0
PRODID:-//Stratis iCal API//FR
CALSCALE:GREGORIAN
X-WR-CALNAME:Visite du four à chaux
BEGIN:VEVENT
UID:event-3050
SUMMARY:Visite du four à chaux
DESCRIPTION:Rencontre autour de l'histoire des fours à chaux en forêt de Lancosme. Site unique de production de briques et de chaux.
DTSTAMP:20260410T134228Z
DTSTART:20260422T160000Z
DTEND:20260422T173000Z
STATUS:CONFIRMED
SEQUENCE:9
BEGIN:VALARM
TRIGGER:-PT30M
DESCRIPTION:Visite du four à chaux
ACTION:DISPLAY
END:VALARM
END:VEVENT
END:VCALENDAR